Workbook
Name AvailableDates: History!$A$7:$A$136
Name FollowSelection: Watchlist!$N$2
Name NewsIndustryChoices: Headlines!$J$20:$J$29
Name NewsMode: Headlines!$C$7
Name NewsPublisherChoices: Headlines!$J$32:$J$38
Name PlanStockNames: PlanInputs[Stock / ETF]
Name StockChartAverage: INDEX('Stock view'!$O$45:$O$1044,'Stock view'!$A$11):INDEX('Stock view'!$O$45:$O$1044,MAX(1,MIN('Stock view'!$A$10,'Stock view'!$A$2)))
Name StockChartCloses: INDEX('Stock view'!$N$45:$N$1044,'Stock view'!$A$11):INDEX('Stock view'!$N$45:$N$1044,MAX(1,MIN('Stock view'!$A$10,'Stock view'!$A$2)))
Name StockChartDates: INDEX('Stock view'!$B$45:$B$1044,'Stock view'!$A$11):INDEX('Stock view'!$B$45:$B$1044,MAX(1,MIN('Stock view'!$A$10,'Stock view'!$A$2)))

Sheet Performance
A2: Performance and risk
A4: Synthetic portfolio and benchmark. Historical risk estimates are descriptive, not forecasts.
A6: Portfolio | C6: =Portfolio!C5 -> Model | G6: Through | I6: =Portfolio!J5 -> 46283
A8: Metric | B8: Portfolio | C8: Benchmark | D8: Basis
A9: Cumulative return | B9: =Portfolio!A11 -> -0.017176243 | C9: =IF(Portfolio!$J$5<Holdings!$G$24,"n.a.",INDEX(Daily!$P$7:$P$136,MATCH(Portfolio!$J$5,Daily!$A$7:$A$136,0))/100-1) -> -0.033758661 | D9: Cash-flow-adjusted portfolio; fictional total-return benchmark
A10: Annualized volatility | B10: =IF(B12>1,STDEV(Daily!$V$7:$V$136)*SQRT(252),"n.a.") -> 0.084074113 | C10: =IF(B12>1,STDEV(Daily!$W$7:$W$136)*SQRT(252),"n.a.") -> 0.089845339 | D10: Daily sample standard deviation x square root of 252
A11: Maximum drawdown | B11: =Portfolio!K11 -> -0.057509487 | C11: n.a. | D11: Peak includes the initial pre-fee index of 100
A12: Observations | B12: =MAX(0,MATCH(Portfolio!$J$5,Daily!$A$7:$A$136,0)-MATCH(Holdings!$G$24,Daily!$A$7:$A$136,0)) -> 129 | C12: =B12 -> 129 | D12: Returns after the initial funded day
A13: Cash weight | B13: =IF(Holdings!G16=0,"n.a.",Holdings!G15/Holdings!G16) -> 0.093856685 | C13: n.a. | D13: Cash earns no interest in this demonstration
A35: Week ending | B35: Portfolio index | C35: Benchmark index | D35: Drawdown
A36: =Daily!T11 -> 27-Mar | B36: =IF(AND(Daily!A11<=Portfolio!$J$5,Daily!A11>=Holdings!$G$24),Daily!M11,NA()) -> 101.24295 | C36: =IF(AND(Daily!A11<=Portfolio!$J$5,Daily!A11>=Holdings!$G$24),Daily!P11,NA()) -> 101.39548 | D36: =IF(AND(Daily!A11<=Portfolio!$J$5,Daily!A11>=Holdings!$G$24),Daily!O11,NA()) -> 0
A37: =Daily!T16 -> 03-Apr | B37: =IF(AND(Daily!A16<=Portfolio!$J$5,Daily!A16>=Holdings!$G$24),Daily!M16,NA()) -> 100.03673 | C37: =IF(AND(Daily!A16<=Portfolio!$J$5,Daily!A16>=Holdings!$G$24),Daily!P16,NA()) -> 99.582566 | D37: =IF(AND(Daily!A16<=Portfolio!$J$5,Daily!A16>=Holdings!$G$24),Daily!O16,NA()) -> -0.015293303
A38: =Daily!T21 -> 10-Apr | B38: =IF(AND(Daily!A21<=Portfolio!$J$5,Daily!A21>=Holdings!$G$24),Daily!M21,NA()) -> 99.515026 | C38: =IF(AND(Daily!A21<=Portfolio!$J$5,Daily!A21>=Holdings!$G$24),Daily!P21,NA()) -> 98.599512 | D38: =IF(AND(Daily!A21<=Portfolio!$J$5,Daily!A21>=Holdings!$G$24),Daily!O21,NA()) -> -0.020428624
A39: =Daily!T26 -> 17-Apr | B39: =IF(AND(Daily!A26<=Portfolio!$J$5,Daily!A26>=Holdings!$G$24),Daily!M26,NA()) -> 99.757747 | C39: =IF(AND(Daily!A26<=Portfolio!$J$5,Daily!A26>=Holdings!$G$24),Daily!P26,NA()) -> 98.854472 | D39: =IF(AND(Daily!A26<=Portfolio!$J$5,Daily!A26>=Holdings!$G$24),Daily!O26,NA()) -> -0.018039417
A40: =Daily!T31 -> 24-Apr | B40: =IF(AND(Daily!A31<=Portfolio!$J$5,Daily!A31>=Holdings!$G$24),Daily!M31,NA()) -> 99.390876 | C40: =IF(AND(Daily!A31<=Portfolio!$J$5,Daily!A31>=Holdings!$G$24),Daily!P31,NA()) -> 97.328269 | D40: =IF(AND(Daily!A31<=Portfolio!$J$5,Daily!A31>=Holdings!$G$24),Daily!O31,NA()) -> -0.021650696
A41: =Daily!T36 -> 01-May | B41: =IF(AND(Daily!A36<=Portfolio!$J$5,Daily!A36>=Holdings!$G$24),Daily!M36,NA()) -> 98.714225 | C41: =IF(AND(Daily!A36<=Portfolio!$J$5,Daily!A36>=Holdings!$G$24),Daily!P36,NA()) -> 96.80965 | D41: =IF(AND(Daily!A36<=Portfolio!$J$5,Daily!A36>=Holdings!$G$24),Daily!O36,NA()) -> -0.028311273
A42: =Daily!T41 -> 08-May | B42: =IF(AND(Daily!A41<=Portfolio!$J$5,Daily!A41>=Holdings!$G$24),Daily!M41,NA()) -> 98.217546 | C42: =IF(AND(Daily!A41<=Portfolio!$J$5,Daily!A41>=Holdings!$G$24),Daily!P41,NA()) -> 95.382601 | D42: =IF(AND(Daily!A41<=Portfolio!$J$5,Daily!A41>=Holdings!$G$24),Daily!O41,NA()) -> -0.033200311
A43: =Daily!T46 -> 15-May | B43: =IF(AND(Daily!A46<=Portfolio!$J$5,Daily!A46>=Holdings!$G$24),Daily!M46,NA()) -> 98.661626 | C43: =IF(AND(Daily!A46<=Portfolio!$J$5,Daily!A46>=Holdings!$G$24),Daily!P46,NA()) -> 94.821611 | D43: =IF(AND(Daily!A46<=Portfolio!$J$5,Daily!A46>=Holdings!$G$24),Daily!O46,NA()) -> -0.028829028
A44: =Daily!T51 -> 22-May | B44: =IF(AND(Daily!A51<=Portfolio!$J$5,Daily!A51>=Holdings!$G$24),Daily!M51,NA()) -> 97.536684 | C44: =IF(AND(Daily!A51<=Portfolio!$J$5,Daily!A51>=Holdings!$G$24),Daily!P51,NA()) -> 93.79418 | D44: =IF(AND(Daily!A51<=Portfolio!$J$5,Daily!A51>=Holdings!$G$24),Daily!O51,NA()) -> -0.039902344
A45: =Daily!T56 -> 29-May | B45: =IF(AND(Daily!A56<=Portfolio!$J$5,Daily!A56>=Holdings!$G$24),Daily!M56,NA()) -> 97.902008 | C45: =IF(AND(Daily!A56<=Portfolio!$J$5,Daily!A56>=Holdings!$G$24),Daily!P56,NA()) -> 94.293306 | D45: =IF(AND(Daily!A56<=Portfolio!$J$5,Daily!A56>=Holdings!$G$24),Daily!O56,NA()) -> -0.036306295
A46: =Daily!T61 -> 05-Jun | B46: =IF(AND(Daily!A61<=Portfolio!$J$5,Daily!A61>=Holdings!$G$24),Daily!M61,NA()) -> 96.849714 | C46: =IF(AND(Daily!A61<=Portfolio!$J$5,Daily!A61>=Holdings!$G$24),Daily!P61,NA()) -> 92.373102 | D46: =IF(AND(Daily!A61<=Portfolio!$J$5,Daily!A61>=Holdings!$G$24),Daily!O61,NA()) -> -0.046664497
A47: =Daily!T66 -> 12-Jun | B47: =IF(AND(Daily!A66<=Portfolio!$J$5,Daily!A66>=Holdings!$G$24),Daily!M66,NA()) -> 95.747967 | C47: =IF(AND(Daily!A66<=Portfolio!$J$5,Daily!A66>=Holdings!$G$24),Daily!P66,NA()) -> 92.297651 | D47: =IF(AND(Daily!A66<=Portfolio!$J$5,Daily!A66>=Holdings!$G$24),Daily!O66,NA()) -> -0.057509487
A48: =Daily!T71 -> 19-Jun | B48: =IF(AND(Daily!A71<=Portfolio!$J$5,Daily!A71>=Holdings!$G$24),Daily!M71,NA()) -> 97.292864 | C48: =IF(AND(Daily!A71<=Portfolio!$J$5,Daily!A71>=Holdings!$G$24),Daily!P71,NA()) -> 94.067238 | D48: =IF(AND(Daily!A71<=Portfolio!$J$5,Daily!A71>=Holdings!$G$24),Daily!O71,NA()) -> -0.042302375
A49: =Daily!T76 -> 26-Jun | B49: =IF(AND(Daily!A76<=Portfolio!$J$5,Daily!A76>=Holdings!$G$24),Daily!M76,NA()) -> 99.151566 | C49: =IF(AND(Daily!A76<=Portfolio!$J$5,Daily!A76>=Holdings!$G$24),Daily!P76,NA()) -> 97.05731 | D49: =IF(AND(Daily!A76<=Portfolio!$J$5,Daily!A76>=Holdings!$G$24),Daily!O76,NA()) -> -0.024006327
A50: =Daily!T81 -> 03-Jul | B50: =IF(AND(Daily!A81<=Portfolio!$J$5,Daily!A81>=Holdings!$G$24),Daily!M81,NA()) -> 99.731055 | C50: =IF(AND(Daily!A81<=Portfolio!$J$5,Daily!A81>=Holdings!$G$24),Daily!P81,NA()) -> 97.147943 | D50: =IF(AND(Daily!A81<=Portfolio!$J$5,Daily!A81>=Holdings!$G$24),Daily!O81,NA()) -> -0.01830216
A51: =Daily!T86 -> 10-Jul | B51: =IF(AND(Daily!A86<=Portfolio!$J$5,Daily!A86>=Holdings!$G$24),Daily!M86,NA()) -> 100.54809 | C51: =IF(AND(Daily!A86<=Portfolio!$J$5,Daily!A86>=Holdings!$G$24),Daily!P86,NA()) -> 97.803045 | D51: =IF(AND(Daily!A86<=Portfolio!$J$5,Daily!A86>=Holdings!$G$24),Daily!O86,NA()) -> -0.01025975
A52: =Daily!T91 -> 17-Jul | B52: =IF(AND(Daily!A91<=Portfolio!$J$5,Daily!A91>=Holdings!$G$24),Daily!M91,NA()) -> 101.684 | C52: =IF(AND(Daily!A91<=Portfolio!$J$5,Daily!A91>=Holdings!$G$24),Daily!P91,NA()) -> 97.566513 | D52: =IF(AND(Daily!A91<=Portfolio!$J$5,Daily!A91>=Holdings!$G$24),Daily!O91,NA()) -> -0.0029393713
A53: =Daily!T96 -> 24-Jul | B53: =IF(AND(Daily!A96<=Portfolio!$J$5,Daily!A96>=Holdings!$G$24),Daily!M96,NA()) -> 100.5546 | C53: =IF(AND(Daily!A96<=Portfolio!$J$5,Daily!A96>=Holdings!$G$24),Daily!P96,NA()) -> 96.27639 | D53: =IF(AND(Daily!A96<=Portfolio!$J$5,Daily!A96>=Holdings!$G$24),Daily!O96,NA()) -> -0.014013658
A54: =Daily!T101 -> 31-Jul | B54: =IF(AND(Daily!A101<=Portfolio!$J$5,Daily!A101>=Holdings!$G$24),Daily!M101,NA()) -> 101.69616 | C54: =IF(AND(Daily!A101<=Portfolio!$J$5,Daily!A101>=Holdings!$G$24),Daily!P101,NA()) -> 97.485243 | D54: =IF(AND(Daily!A101<=Portfolio!$J$5,Daily!A101>=Holdings!$G$24),Daily!O101,NA()) -> -0.0028201545
A55: =Daily!T106 -> 07-Aug | B55: =IF(AND(Daily!A106<=Portfolio!$J$5,Daily!A106>=Holdings!$G$24),Daily!M106,NA()) -> 102.84219 | C55: =IF(AND(Daily!A106<=Portfolio!$J$5,Daily!A106>=Holdings!$G$24),Daily!P106,NA()) -> 98.759671 | D55: =IF(AND(Daily!A106<=Portfolio!$J$5,Daily!A106>=Holdings!$G$24),Daily!O106,NA()) -> 0
A56: =Daily!T111 -> 14-Aug | B56: =IF(AND(Daily!A111<=Portfolio!$J$5,Daily!A111>=Holdings!$G$24),Daily!M111,NA()) -> 102.76906 | C56: =IF(AND(Daily!A111<=Portfolio!$J$5,Daily!A111>=Holdings!$G$24),Daily!P111,NA()) -> 98.554956 | D56: =IF(AND(Daily!A111<=Portfolio!$J$5,Daily!A111>=Holdings!$G$24),Daily!O111,NA()) -> -0.0016956301
A57: =Daily!T116 -> 21-Aug | B57: =IF(AND(Daily!A116<=Portfolio!$J$5,Daily!A116>=Holdings!$G$24),Daily!M116,NA()) -> 100.94957 | C57: =IF(AND(Daily!A116<=Portfolio!$J$5,Daily!A116>=Holdings!$G$24),Daily!P116,NA()) -> 97.847238 | D57: =IF(AND(Daily!A116<=Portfolio!$J$5,Daily!A116>=Holdings!$G$24),Daily!O116,NA()) -> -0.019370343
A58: =Daily!T121 -> 28-Aug | B58: =IF(AND(Daily!A121<=Portfolio!$J$5,Daily!A121>=Holdings!$G$24),Daily!M121,NA()) -> 99.090049 | C58: =IF(AND(Daily!A121<=Portfolio!$J$5,Daily!A121>=Holdings!$G$24),Daily!P121,NA()) -> 97.370689 | D58: =IF(AND(Daily!A121<=Portfolio!$J$5,Daily!A121>=Holdings!$G$24),Daily!O121,NA()) -> -0.03743379
A59: =Daily!T126 -> 04-Sep | B59: =IF(AND(Daily!A126<=Portfolio!$J$5,Daily!A126>=Holdings!$G$24),Daily!M126,NA()) -> 100.69837 | C59: =IF(AND(Daily!A126<=Portfolio!$J$5,Daily!A126>=Holdings!$G$24),Daily!P126,NA()) -> 98.773055 | D59: =IF(AND(Daily!A126<=Portfolio!$J$5,Daily!A126>=Holdings!$G$24),Daily!O126,NA()) -> -0.021810463
A60: =Daily!T131 -> 11-Sep | B60: =IF(AND(Daily!A131<=Portfolio!$J$5,Daily!A131>=Holdings!$G$24),Daily!M131,NA()) -> 101.70966 | C60: =IF(AND(Daily!A131<=Portfolio!$J$5,Daily!A131>=Holdings!$G$24),Daily!P131,NA()) -> 100.32491 | D60: =IF(AND(Daily!A131<=Portfolio!$J$5,Daily!A131>=Holdings!$G$24),Daily!O131,NA()) -> -0.01198671
A61: =Daily!T136 -> 18-Sep | B61: =IF(AND(Daily!A136<=Portfolio!$J$5,Daily!A136>=Holdings!$G$24),Daily!M136,NA()) -> 98.282376 | C61: =IF(AND(Daily!A136<=Portfolio!$J$5,Daily!A136>=Holdings!$G$24),Daily!P136,NA()) -> 96.624134 | D61: =IF(AND(Daily!A136<=Portfolio!$J$5,Daily!A136>=Holdings!$G$24),Daily!O136,NA()) -> -0.045279569

Sheet Ledger
A2: Transaction accounting
A4: Query output sorted by date and EventID. Cost basis uses weighted-average cost.
A6: EventID | B6: Date | C6: Portfolio | D6: Type | E6: Instrument | F6: Quantity | G6: Price | H6: Amount | I6: Fees | J6: UnitsDelta | K6: CashDelta | L6: ExternalFlow | M6: PriorUnits | N6: PriorCost | O6: CostChange | P6: RealizedPnL | Q6: PositionAfter | R6: CostAfter | S6: RecordStatus | T6: SourceKey | U6: InputMatch
A7: EVT-0001 | B7: 46104 | C7: Model | D7: DEPOSIT | E7: CASH | F7: 0 | G7: 0 | H7: 500000 | I7: 0 | J7: =IF(D7="BUY",F7,IF(D7="SELL",-F7,IF(OR(D7="SPLIT",D7="BONUS"),F7,0))) -> 0 | K7: =IF(D7="BUY",-F7*G7-I7,IF(D7="SELL",F7*G7-I7,IF(D7="DEPOSIT",H7,IF(D7="WITHDRAW",-H7,IF(D7="DIVIDEND",H7-I7,IF(D7="FEE",-H7-I7,0)))))) -> 500000 | L7: =IF(D7="DEPOSIT",H7,IF(D7="WITHDRAW",-H7,0)) -> 500000 | M7: =SUMIFS($J$6:J6,$C$6:C6,C7,$E$6:E6,E7) -> 0 | N7: =SUMIFS($O$6:O6,$C$6:C6,C7,$E$6:E6,E7) -> 0 | O7: =IF(D7="BUY",F7*G7+I7,IF(D7="SELL",IF(M7>0,-F7*N7/M7,NA()),0)) -> 0 | P7: =IF(D7="SELL",F7*G7-I7+O7,0) -> 0 | Q7: =M7+J7 -> 0 | R7: =N7+O7 -> 0 | S7: =IF(OR(F7<0,G7<0,H7<0,I7<0),"Review negative input",IF(Q7<-0.000001,"Review short position",IF(SUMIFS($K$7:K7,$C$7:C7,C7)<-0.01,"Review negative cash",IF(COUNTIFS(History!$A$7:$A$136,B7)=0,"Review date","OK")))) -> OK | T7: =A7&"|"&TEXT(B7,"yyyy-mm-dd")&"|"&C7&"|"&D7&"|"&E7&"|"&TEXT(F7,"0.##############")&"|"&TEXT(G7,"0.##############")&"|"&TEXT(H7,"0.##############")&"|"&TEXT(I7,"0.##############") -> EVT-0001|2026-03-23|Model|DEPOSIT|CASH|0.|0.|500000.|0. | U7: =IF(COUNTIFS(Transactions!$A$7:$A$1006,A7,Transactions!$J$7:$J$1006,T7)>0,"Matched","Refresh required") -> Matched
A8: EVT-0002 | B8: 46104 | C8: Model | D8: BUY | E8: SYN_BANK | F8: 80 | G8: 550 | H8: 0 | I8: 30 | J8: =IF(D8="BUY",F8,IF(D8="SELL",-F8,IF(OR(D8="SPLIT",D8="BONUS"),F8,0))) -> 80 | K8: =IF(D8="BUY",-F8*G8-I8,IF(D8="SELL",F8*G8-I8,IF(D8="DEPOSIT",H8,IF(D8="WITHDRAW",-H8,IF(D8="DIVIDEND",H8-I8,IF(D8="FEE",-H8-I8,0)))))) -> -44030 | L8: =IF(D8="DEPOSIT",H8,IF(D8="WITHDRAW",-H8,0)) -> 0 | M8: =SUMIFS($J$6:J7,$C$6:C7,C8,$E$6:E7,E8) -> 0 | N8: =SUMIFS($O$6:O7,$C$6:C7,C8,$E$6:E7,E8) -> 0 | O8: =IF(D8="BUY",F8*G8+I8,IF(D8="SELL",IF(M8>0,-F8*N8/M8,NA()),0)) -> 44030 | P8: =IF(D8="SELL",F8*G8-I8+O8,0) -> 0 | Q8: =M8+J8 -> 80 | R8: =N8+O8 -> 44030 | S8: =IF(OR(F8<0,G8<0,H8<0,I8<0),"Review negative input",IF(Q8<-0.000001,"Review short position",IF(SUMIFS($K$7:K8,$C$7:C8,C8)<-0.01,"Review negative cash",IF(COUNTIFS(History!$A$7:$A$136,B8)=0,"Review date","OK")))) -> OK | T8: =A8&"|"&TEXT(B8,"yyyy-mm-dd")&"|"&C8&"|"&D8&"|"&E8&"|"&TEXT(F8,"0.##############")&"|"&TEXT(G8,"0.##############")&"|"&TEXT(H8,"0.##############")&"|"&TEXT(I8,"0.##############") -> EVT-0002|2026-03-23|Model|BUY|SYN_BANK|80.|550.|0.|30. | U8: =IF(COUNTIFS(Transactions!$A$7:$A$1006,A8,Transactions!$J$7:$J$1006,T8)>0,"Matched","Refresh required") -> Matched
A9: EVT-0003 | B9: 46104 | C9: Model | D9: BUY | E9: SYN_TECH | F9: 100 | G9: 1200 | H9: 0 | I9: 30 | J9: =IF(D9="BUY",F9,IF(D9="SELL",-F9,IF(OR(D9="SPLIT",D9="BONUS"),F9,0))) -> 100 | K9: =IF(D9="BUY",-F9*G9-I9,IF(D9="SELL",F9*G9-I9,IF(D9="DEPOSIT",H9,IF(D9="WITHDRAW",-H9,IF(D9="DIVIDEND",H9-I9,IF(D9="FEE",-H9-I9,0)))))) -> -120030 | L9: =IF(D9="DEPOSIT",H9,IF(D9="WITHDRAW",-H9,0)) -> 0 | M9: =SUMIFS($J$6:J8,$C$6:C8,C9,$E$6:E8,E9) -> 0 | N9: =SUMIFS($O$6:O8,$C$6:C8,C9,$E$6:E8,E9) -> 0 | O9: =IF(D9="BUY",F9*G9+I9,IF(D9="SELL",IF(M9>0,-F9*N9/M9,NA()),0)) -> 120030 | P9: =IF(D9="SELL",F9*G9-I9+O9,0) -> 0 | Q9: =M9+J9 -> 100 | R9: =N9+O9 -> 120030 | S9: =IF(OR(F9<0,G9<0,H9<0,I9<0),"Review negative input",IF(Q9<-0.000001,"Review short position",IF(SUMIFS($K$7:K9,$C$7:C9,C9)<-0.01,"Review negative cash",IF(COUNTIFS(History!$A$7:$A$136,B9)=0,"Review date","OK")))) -> OK | T9: =A9&"|"&TEXT(B9,"yyyy-mm-dd")&"|"&C9&"|"&D9&"|"&E9&"|"&TEXT(F9,"0.##############")&"|"&TEXT(G9,"0.##############")&"|"&TEXT(H9,"0.##############")&"|"&TEXT(I9,"0.##############") -> EVT-0003|2026-03-23|Model|BUY|SYN_TECH|100.|1200.|0.|30. | U9: =IF(COUNTIFS(Transactions!$A$7:$A$1006,A9,Transactions!$J$7:$J$1006,T9)>0,"Matched","Refresh required") -> Matched
A10: EVT-0004 | B10: 46104 | C10: Model | D10: BUY | E10: SYN_HEALTH | F10: 70 | G10: 850 | H10: 0 | I10: 30 | J10: =IF(D10="BUY",F10,IF(D10="SELL",-F10,IF(OR(D10="SPLIT",D10="BONUS"),F10,0))) -> 70 | K10: =IF(D10="BUY",-F10*G10-I10,IF(D10="SELL",F10*G10-I10,IF(D10="DEPOSIT",H10,IF(D10="WITHDRAW",-H10,IF(D10="DIVIDEND",H10-I10,IF(D10="FEE",-H10-I10,0)))))) -> -59530 | L10: =IF(D10="DEPOSIT",H10,IF(D10="WITHDRAW",-H10,0)) -> 0 | M10: =SUMIFS($J$6:J9,$C$6:C9,C10,$E$6:E9,E10) -> 0 | N10: =SUMIFS($O$6:O9,$C$6:C9,C10,$E$6:E9,E10) -> 0 | O10: =IF(D10="BUY",F10*G10+I10,IF(D10="SELL",IF(M10>0,-F10*N10/M10,NA()),0)) -> 59530 | P10: =IF(D10="SELL",F10*G10-I10+O10,0) -> 0 | Q10: =M10+J10 -> 70 | R10: =N10+O10 -> 59530 | S10: =IF(OR(F10<0,G10<0,H10<0,I10<0),"Review negative input",IF(Q10<-0.000001,"Review short position",IF(SUMIFS($K$7:K10,$C$7:C10,C10)<-0.01,"Review negative cash",IF(COUNTIFS(History!$A$7:$A$136,B10)=0,"Review date","OK")))) -> OK | T10: =A10&"|"&TEXT(B10,"yyyy-mm-dd")&"|"&C10&"|"&D10&"|"&E10&"|"&TEXT(F10,"0.##############")&"|"&TEXT(G10,"0.##############")&"|"&TEXT(H10,"0.##############")&"|"&TEXT(I10,"0.##############") -> EVT-0004|2026-03-23|Model|BUY|SYN_HEALTH|70.|850.|0.|30. | U10: =IF(COUNTIFS(Transactions!$A$7:$A$1006,A10,Transactions!$J$7:$J$1006,T10)>0,"Matched","Refresh required") -> Matched
A11: EVT-0005 | B11: 46104 | C11: Model | D11: BUY | E11: SYN_INDUSTRY | F11: 180 | G11: 430 | H11: 0 | I11: 30 | J11: =IF(D11="BUY",F11,IF(D11="SELL",-F11,IF(OR(D11="SPLIT",D11="BONUS"),F11,0))) -> 180 | K11: =IF(D11="BUY",-F11*G11-I11,IF(D11="SELL",F11*G11-I11,IF(D11="DEPOSIT",H11,IF(D11="WITHDRAW",-H11,IF(D11="DIVIDEND",H11-I11,IF(D11="FEE",-H11-I11,0)))))) -> -77430 | L11: =IF(D11="DEPOSIT",H11,IF(D11="WITHDRAW",-H11,0)) -> 0 | M11: =SUMIFS($J$6:J10,$C$6:C10,C11,$E$6:E10,E11) -> 0 | N11: =SUMIFS($O$6:O10,$C$6:C10,C11,$E$6:E10,E11) -> 0 | O11: =IF(D11="BUY",F11*G11+I11,IF(D11="SELL",IF(M11>0,-F11*N11/M11,NA()),0)) -> 77430 | P11: =IF(D11="SELL",F11*G11-I11+O11,0) -> 0 | Q11: =M11+J11 -> 180 | R11: =N11+O11 -> 77430 | S11: =IF(OR(F11<0,G11<0,H11<0,I11<0),"Review negative input",IF(Q11<-0.000001,"Review short position",IF(SUMIFS($K$7:K11,$C$7:C11,C11)<-0.01,"Review negative cash",IF(COUNTIFS(History!$A$7:$A$136,B11)=0,"Review date","OK")))) -> OK | T11: =A11&"|"&TEXT(B11,"yyyy-mm-dd")&"|"&C11&"|"&D11&"|"&E11&"|"&TEXT(F11,"0.##############")&"|"&TEXT(G11,"0.##############")&"|"&TEXT(H11,"0.##############")&"|"&TEXT(I11,"0.##############") -> EVT-0005|2026-03-23|Model|BUY|SYN_INDUSTRY|180.|430.|0.|30. | U11: =IF(COUNTIFS(Transactions!$A$7:$A$1006,A11,Transactions!$J$7:$J$1006,T11)>0,"Matched","Refresh required") -> Matched
A12: EVT-0006 | B12: 46104 | C12: Model | D12: BUY | E12: SYN_BROAD_ETF | F12: 400 | G12: 250 | H12: 0 | I12: 30 | J12: =IF(D12="BUY",F12,IF(D12="SELL",-F12,IF(OR(D12="SPLIT",D12="BONUS"),F12,0))) -> 400 | K12: =IF(D12="BUY",-F12*G12-I12,IF(D12="SELL",F12*G12-I12,IF(D12="DEPOSIT",H12,IF(D12="WITHDRAW",-H12,IF(D12="DIVIDEND",H12-I12,IF(D12="FEE",-H12-I12,0)))))) -> -100030 | L12: =IF(D12="DEPOSIT",H12,IF(D12="WITHDRAW",-H12,0)) -> 0 | M12: =SUMIFS($J$6:J11,$C$6:C11,C12,$E$6:E11,E12) -> 0 | N12: =SUMIFS($O$6:O11,$C$6:C11,C12,$E$6:E11,E12) -> 0 | O12: =IF(D12="BUY",F12*G12+I12,IF(D12="SELL",IF(M12>0,-F12*N12/M12,NA()),0)) -> 100030 | P12: =IF(D12="SELL",F12*G12-I12+O12,0) -> 0 | Q12: =M12+J12 -> 400 | R12: =N12+O12 -> 100030 | S12: =IF(OR(F12<0,G12<0,H12<0,I12<0),"Review negative input",IF(Q12<-0.000001,"Review short position",IF(SUMIFS($K$7:K12,$C$7:C12,C12)<-0.01,"Review negative cash",IF(COUNTIFS(History!$A$7:$A$136,B12)=0,"Review date","OK")))) -> OK | T12: =A12&"|"&TEXT(B12,"yyyy-mm-dd")&"|"&C12&"|"&D12&"|"&E12&"|"&TEXT(F12,"0.##############")&"|"&TEXT(G12,"0.##############")&"|"&TEXT(H12,"0.##############")&"|"&TEXT(I12,"0.##############") -> EVT-0006|2026-03-23|Model|BUY|SYN_BROAD_ETF|400.|250.|0.|30. | U12: =IF(COUNTIFS(Transactions!$A$7:$A$1006,A12,Transactions!$J$7:$J$1006,T12)>0,"Matched","Refresh required") -> Matched
A13: EVT-0007 | B13: 46104 | C13: Model | D13: BUY | E13: SYN_BOND_ETF | F13: 600 | G13: 100 | H13: 0 | I13: 30 | J13: =IF(D13="BUY",F13,IF(D13="SELL",-F13,IF(OR(D13="SPLIT",D13="BONUS"),F13,0))) -> 600 | K13: =IF(D13="BUY",-F13*G13-I13,IF(D13="SELL",F13*G13-I13,IF(D13="DEPOSIT",H13,IF(D13="WITHDRAW",-H13,IF(D13="DIVIDEND",H13-I13,IF(D13="FEE",-H13-I13,0)))))) -> -60030 | L13: =IF(D13="DEPOSIT",H13,IF(D13="WITHDRAW",-H13,0)) -> 0 | M13: =SUMIFS($J$6:J12,$C$6:C12,C13,$E$6:E12,E13) -> 0 | N13: =SUMIFS($O$6:O12,$C$6:C12,C13,$E$6:E12,E13) -> 0 | O13: =IF(D13="BUY",F13*G13+I13,IF(D13="SELL",IF(M13>0,-F13*N13/M13,NA()),0)) -> 60030 | P13: =IF(D13="SELL",F13*G13-I13+O13,0) -> 0 | Q13: =M13+J13 -> 600 | R13: =N13+O13 -> 60030 | S13: =IF(OR(F13<0,G13<0,H13<0,I13<0),"Review negative input",IF(Q13<-0.000001,"Review short position",IF(SUMIFS($K$7:K13,$C$7:C13,C13)<-0.01,"Review negative cash",IF(COUNTIFS(History!$A$7:$A$136,B13)=0,"Review date","OK")))) -> OK | T13: =A13&"|"&TEXT(B13,"yyyy-mm-dd")&"|"&C13&"|"&D13&"|"&E13&"|"&TEXT(F13,"0.##############")&"|"&TEXT(G13,"0.##############")&"|"&TEXT(H13,"0.##############")&"|"&TEXT(I13,"0.##############") -> EVT-0007|2026-03-23|Model|BUY|SYN_BOND_ETF|600.|100.|0.|30. | U13: =IF(COUNTIFS(Transactions!$A$7:$A$1006,A13,Transactions!$J$7:$J$1006,T13)>0,"Matched","Refresh required") -> Matched
A14: EVT-0008 | B14: 46104 | C14: Practice | D14: DEPOSIT | E14: CASH | F14: 0 | G14: 0 | H14: 250000 | I14: 0 | J14: =IF(D14="BUY",F14,IF(D14="SELL",-F14,IF(OR(D14="SPLIT",D14="BONUS"),F14,0))) -> 0 | K14: =IF(D14="BUY",-F14*G14-I14,IF(D14="SELL",F14*G14-I14,IF(D14="DEPOSIT",H14,IF(D14="WITHDRAW",-H14,IF(D14="DIVIDEND",H14-I14,IF(D14="FEE",-H14-I14,0)))))) -> 250000 | L14: =IF(D14="DEPOSIT",H14,IF(D14="WITHDRAW",-H14,0)) -> 250000 | M14: =SUMIFS($J$6:J13,$C$6:C13,C14,$E$6:E13,E14) -> 0 | N14: =SUMIFS($O$6:O13,$C$6:C13,C14,$E$6:E13,E14) -> 0 | O14: =IF(D14="BUY",F14*G14+I14,IF(D14="SELL",IF(M14>0,-F14*N14/M14,NA()),0)) -> 0 | P14: =IF(D14="SELL",F14*G14-I14+O14,0) -> 0 | Q14: =M14+J14 -> 0 | R14: =N14+O14 -> 0 | S14: =IF(OR(F14<0,G14<0,H14<0,I14<0),"Review negative input",IF(Q14<-0.000001,"Review short position",IF(SUMIFS($K$7:K14,$C$7:C14,C14)<-0.01,"Review negative cash",IF(COUNTIFS(History!$A$7:$A$136,B14)=0,"Review date","OK")))) -> OK | T14: =A14&"|"&TEXT(B14,"yyyy-mm-dd")&"|"&C14&"|"&D14&"|"&E14&"|"&TEXT(F14,"0.##############")&"|"&TEXT(G14,"0.##############")&"|"&TEXT(H14,"0.##############")&"|"&TEXT(I14,"0.##############") -> EVT-0008|2026-03-23|Practice|DEPOSIT|CASH|0.|0.|250000.|0. | U14: =IF(COUNTIFS(Transactions!$A$7:$A$1006,A14,Transactions!$J$7:$J$1006,T14)>0,"Matched","Refresh required") -> Matched
A15: EVT-0009 | B15: 46104 | C15: Practice | D15: BUY | E15: SYN_BANK | F15: 40 | G15: 550 | H15: 0 | I15: 15 | J15: =IF(D15="BUY",F15,IF(D15="SELL",-F15,IF(OR(D15="SPLIT",D15="BONUS"),F15,0))) -> 40 | K15: =IF(D15="BUY",-F15*G15-I15,IF(D15="SELL",F15*G15-I15,IF(D15="DEPOSIT",H15,IF(D15="WITHDRAW",-H15,IF(D15="DIVIDEND",H15-I15,IF(D15="FEE",-H15-I15,0)))))) -> -22015 | L15: =IF(D15="DEPOSIT",H15,IF(D15="WITHDRAW",-H15,0)) -> 0 | M15: =SUMIFS($J$6:J14,$C$6:C14,C15,$E$6:E14,E15) -> 0 | N15: =SUMIFS($O$6:O14,$C$6:C14,C15,$E$6:E14,E15) -> 0 | O15: =IF(D15="BUY",F15*G15+I15,IF(D15="SELL",IF(M15>0,-F15*N15/M15,NA()),0)) -> 22015 | P15: =IF(D15="SELL",F15*G15-I15+O15,0) -> 0 | Q15: =M15+J15 -> 40 | R15: =N15+O15 -> 22015 | S15: =IF(OR(F15<0,G15<0,H15<0,I15<0),"Review negative input",IF(Q15<-0.000001,"Review short position",IF(SUMIFS($K$7:K15,$C$7:C15,C15)<-0.01,"Review negative cash",IF(COUNTIFS(History!$A$7:$A$136,B15)=0,"Review date","OK")))) -> OK | T15: =A15&"|"&TEXT(B15,"yyyy-mm-dd")&"|"&C15&"|"&D15&"|"&E15&"|"&TEXT(F15,"0.##############")&"|"&TEXT(G15,"0.##############")&"|"&TEXT(H15,"0.##############")&"|"&TEXT(I15,"0.##############") -> EVT-0009|2026-03-23|Practice|BUY|SYN_BANK|40.|550.|0.|15. | U15: =IF(COUNTIFS(Transactions!$A$7:$A$1006,A15,Transactions!$J$7:$J$1006,T15)>0,"Matched","Refresh required") -> Matched
A16: EVT-0010 | B16: 46104 | C16: Practice | D16: BUY | E16: SYN_TECH | F16: 50 | G16: 1200 | H16: 0 | I16: 15 | J16: =IF(D16="BUY",F16,IF(D16="SELL",-F16,IF(OR(D16="SPLIT",D16="BONUS"),F16,0))) -> 50 | K16: =IF(D16="BUY",-F16*G16-I16,IF(D16="SELL",F16*G16-I16,IF(D16="DEPOSIT",H16,IF(D16="WITHDRAW",-H16,IF(D16="DIVIDEND",H16-I16,IF(D16="FEE",-H16-I16,0)))))) -> -60015 | L16: =IF(D16="DEPOSIT",H16,IF(D16="WITHDRAW",-H16,0)) -> 0 | M16: =SUMIFS($J$6:J15,$C$6:C15,C16,$E$6:E15,E16) -> 0 | N16: =SUMIFS($O$6:O15,$C$6:C15,C16,$E$6:E15,E16) -> 0 | O16: =IF(D16="BUY",F16*G16+I16,IF(D16="SELL",IF(M16>0,-F16*N16/M16,NA()),0)) -> 60015 | P16: =IF(D16="SELL",F16*G16-I16+O16,0) -> 0 | Q16: =M16+J16 -> 50 | R16: =N16+O16 -> 60015 | S16: =IF(OR(F16<0,G16<0,H16<0,I16<0),"Review negative input",IF(Q16<-0.000001,"Review short position",IF(SUMIFS($K$7:K16,$C$7:C16,C16)<-0.01,"Review negative cash",IF(COUNTIFS(History!$A$7:$A$136,B16)=0,"Review date","OK")))) -> OK | T16: =A16&"|"&TEXT(B16,"yyyy-mm-dd")&"|"&C16&"|"&D16&"|"&E16&"|"&TEXT(F16,"0.##############")&"|"&TEXT(G16,"0.##############")&"|"&TEXT(H16,"0.##############")&"|"&TEXT(I16,"0.##############") -> EVT-0010|2026-03-23|Practice|BUY|SYN_TECH|50.|1200.|0.|15. | U16: =IF(COUNTIFS(Transactions!$A$7:$A$1006,A16,Transactions!$J$7:$J$1006,T16)>0,"Matched","Refresh required") -> Matched
A17: EVT-0011 | B17: 46104 | C17: Practice | D17: BUY | E17: SYN_HEALTH | F17: 35 | G17: 850 | H17: 0 | I17: 15 | J17: =IF(D17="BUY",F17,IF(D17="SELL",-F17,IF(OR(D17="SPLIT",D17="BONUS"),F17,0))) -> 35 | K17: =IF(D17="BUY",-F17*G17-I17,IF(D17="SELL",F17*G17-I17,IF(D17="DEPOSIT",H17,IF(D17="WITHDRAW",-H17,IF(D17="DIVIDEND",H17-I17,IF(D17="FEE",-H17-I17,0)))))) -> -29765 | L17: =IF(D17="DEPOSIT",H17,IF(D17="WITHDRAW",-H17,0)) -> 0 | M17: =SUMIFS($J$6:J16,$C$6:C16,C17,$E$6:E16,E17) -> 0 | N17: =SUMIFS($O$6:O16,$C$6:C16,C17,$E$6:E16,E17) -> 0 | O17: =IF(D17="BUY",F17*G17+I17,IF(D17="SELL",IF(M17>0,-F17*N17/M17,NA()),0)) -> 29765 | P17: =IF(D17="SELL",F17*G17-I17+O17,0) -> 0 | Q17: =M17+J17 -> 35 | R17: =N17+O17 -> 29765 | S17: =IF(OR(F17<0,G17<0,H17<0,I17<0),"Review negative input",IF(Q17<-0.000001,"Review short position",IF(SUMIFS($K$7:K17,$C$7:C17,C17)<-0.01,"Review negative cash",IF(COUNTIFS(History!$A$7:$A$136,B17)=0,"Review date","OK")))) -> OK | T17: =A17&"|"&TEXT(B17,"yyyy-mm-dd")&"|"&C17&"|"&D17&"|"&E17&"|"&TEXT(F17,"0.##############")&"|"&TEXT(G17,"0.##############")&"|"&TEXT(H17,"0.##############")&"|"&TEXT(I17,"0.##############") -> EVT-0011|2026-03-23|Practice|BUY|SYN_HEALTH|35.|850.|0.|15. | U17: =IF(COUNTIFS(Transactions!$A$7:$A$1006,A17,Transactions!$J$7:$J$1006,T17)>0,"Matched","Refresh required") -> Matched
A18: EVT-0012 | B18: 46104 | C18: Practice | D18: BUY | E18: SYN_INDUSTRY | F18: 90 | G18: 430 | H18: 0 | I18: 15 | J18: =IF(D18="BUY",F18,IF(D18="SELL",-F18,IF(OR(D18="SPLIT",D18="BONUS"),F18,0))) -> 90 | K18: =IF(D18="BUY",-F18*G18-I18,IF(D18="SELL",F18*G18-I18,IF(D18="DEPOSIT",H18,IF(D18="WITHDRAW",-H18,IF(D18="DIVIDEND",H18-I18,IF(D18="FEE",-H18-I18,0)))))) -> -38715 | L18: =IF(D18="DEPOSIT",H18,IF(D18="WITHDRAW",-H18,0)) -> 0 | M18: =SUMIFS($J$6:J17,$C$6:C17,C18,$E$6:E17,E18) -> 0 | N18: =SUMIFS($O$6:O17,$C$6:C17,C18,$E$6:E17,E18) -> 0 | O18: =IF(D18="BUY",F18*G18+I18,IF(D18="SELL",IF(M18>0,-F18*N18/M18,NA()),0)) -> 38715 | P18: =IF(D18="SELL",F18*G18-I18+O18,0) -> 0 | Q18: =M18+J18 -> 90 | R18: =N18+O18 -> 38715 | S18: =IF(OR(F18<0,G18<0,H18<0,I18<0),"Review negative input",IF(Q18<-0.000001,"Review short position",IF(SUMIFS($K$7:K18,$C$7:C18,C18)<-0.01,"Review negative cash",IF(COUNTIFS(History!$A$7:$A$136,B18)=0,"Review date","OK")))) -> OK | T18: =A18&"|"&TEXT(B18,"yyyy-mm-dd")&"|"&C18&"|"&D18&"|"&E18&"|"&TEXT(F18,"0.##############")&"|"&TEXT(G18,"0.##############")&"|"&TEXT(H18,"0.##############")&"|"&TEXT(I18,"0.##############") -> EVT-0012|2026-03-23|Practice|BUY|SYN_INDUSTRY|90.|430.|0.|15. | U18: =IF(COUNTIFS(Transactions!$A$7:$A$1006,A18,Transactions!$J$7:$J$1006,T18)>0,"Matched","Refresh required") -> Matched
... A42: EVT-0036 | B42: 46268 | C42: Practice | D42: SELL | E42: SYN_BANK | F42: 5 | G42: 569.0415 | H42: 0 | I42: 15 | J42: =IF(D42="BUY",F42,IF(D42="SELL",-F42,IF(OR(D42="SPLIT",D42="BONUS"),F42,0))) -> -5 | K42: =IF(D42="BUY",-F42*G42-I42,IF(D42="SELL",F42*G42-I42,IF(D42="DEPOSIT",H42,IF(D42="WITHDRAW",-H42,IF(D42="DIVIDEND",H42-I42,IF(D42="FEE",-H42-I42,0)))))) -> 2830.2075 | L42: =IF(D42="DEPOSIT",H42,IF(D42="WITHDRAW",-H42,0)) -> 0 | M42: =SUMIFS($J$6:J41,$C$6:C41,C42,$E$6:E41,E42) -> 50 | N42: =SUMIFS($O$6:O41,$C$6:C41,C42,$E$6:E41,E42) -> 27112.871 | O42: =IF(D42="BUY",F42*G42+I42,IF(D42="SELL",IF(M42>0,-F42*N42/M42,NA()),0)) -> -2711.2871 | P42: =IF(D42="SELL",F42*G42-I42+O42,0) -> 118.9204 | Q42: =M42+J42 -> 45 | R42: =N42+O42 -> 24401.584 | S42: =IF(OR(F42<0,G42<0,H42<0,I42<0),"Review negative input",IF(Q42<-0.000001,"Review short position",IF(SUMIFS($K$7:K42,$C$7:C42,C42)<-0.01,"Review negative cash",IF(COUNTIFS(History!$A$7:$A$136,B42)=0,"Review date","OK")))) -> OK | T42: =A42&"|"&TEXT(B42,"yyyy-mm-dd")&"|"&C42&"|"&D42&"|"&E42&"|"&TEXT(F42,"0.##############")&"|"&TEXT(G42,"0.##############")&"|"&TEXT(H42,"0.##############")&"|"&TEXT(I42,"0.##############") -> EVT-0036|2026-09-03|Practice|SELL|SYN_BANK|5.|569.0415|0.|15. | U42: =IF(COUNTIFS(Transactions!$A$7:$A$1006,A42,Transactions!$J$7:$J$1006,T42)>0,"Matched","Refresh required") -> Matched

Sheet Daily
A2: Daily portfolio calculation
A4: Daily flows are at the close, except the initial deposit. Prices include explicit synthetic corporate actions.
A6: Date | B6: BANK units | C6: TECH units | D6: HEALTH units | E6: INDUSTRY units | F6: BROAD_ETF units | G6: BOND_ETF units | H6: Cash | I6: Securities | J6: Value | K6: External flow | L6: Daily return | M6: Return index | N6: Peak index | O6: Drawdown | P6: Benchmark index | Q6: Benchmark return | R6: Investor cash flow | S6: Price coverage | T6: Chart date | U6: Drawdown to date | V6: Portfolio risk sample | W6: Benchmark risk sample
A7: 46104 | B7: =SUMIFS(Ledger!$J$7:$J$1006,Ledger!$C$7:$C$1006,Portfolio!$C$5,Ledger!$E$7:$E$1006,History!B$6,Ledger!$B$7:$B$1006,"<="&$A7) -> 80 | C7: =SUMIFS(Ledger!$J$7:$J$1006,Ledger!$C$7:$C$1006,Portfolio!$C$5,Ledger!$E$7:$E$1006,History!C$6,Ledger!$B$7:$B$1006,"<="&$A7) -> 100 | D7: =SUMIFS(Ledger!$J$7:$J$1006,Ledger!$C$7:$C$1006,Portfolio!$C$5,Ledger!$E$7:$E$1006,History!D$6,Ledger!$B$7:$B$1006,"<="&$A7) -> 70 | E7: =SUMIFS(Ledger!$J$7:$J$1006,Ledger!$C$7:$C$1006,Portfolio!$C$5,Ledger!$E$7:$E$1006,History!E$6,Ledger!$B$7:$B$1006,"<="&$A7) -> 180 | F7: =SUMIFS(Ledger!$J$7:$J$1006,Ledger!$C$7:$C$1006,Portfolio!$C$5,Ledger!$E$7:$E$1006,History!F$6,Ledger!$B$7:$B$1006,"<="&$A7) -> 400 | G7: =SUMIFS(Ledger!$J$7:$J$1006,Ledger!$C$7:$C$1006,Portfolio!$C$5,Ledger!$E$7:$E$1006,History!G$6,Ledger!$B$7:$B$1006,"<="&$A7) -> 600 | H7: =SUMIFS(Ledger!$K$7:$K$1006,Ledger!$C$7:$C$1006,Portfolio!$C$5,Ledger!$B$7:$B$1006,"<="&$A7) -> 38920 | I7: =IF(S7=6,SUMPRODUCT(B7:G7,History!B7:G7),NA()) -> 460900 | J7: =SUM(H7:I7) -> 499820 | K7: =SUMIFS(Ledger!$L$7:$L$1006,Ledger!$C$7:$C$1006,Portfolio!$C$5,Ledger!$B$7:$B$1006,$A7) -> 500000 | L7: =IF(A7<Holdings!$G$24,"",IF(K7>0,J7/K7-1,NA())) -> -0.00036 | M7: =IF(A7<Holdings!$G$24,"",100*(1+L7)) -> 99.964 | N7: =IF(A7<Holdings!$G$24,"",MAX(100,M7)) -> 100 | O7: =IF(A7<Holdings!$G$24,"",M7/N7-1) -> -0.00036 | P7: =IF(A7<Holdings!$G$24,"",IF(History!H7>0,History!H7/INDEX(History!$H$7:$H$136,MATCH(Holdings!$G$24,History!$A$7:$A$136,0))*100,NA())) -> 100 | Q7: ="" | R7: =IF(A7>Portfolio!$J$5,0,-K7+IF(A7=Portfolio!$J$5,J7,0)) -> -500000 | S7: =COUNTIFS(History!B7:G7,">0") -> 6 | T7: =TEXT(A7,"dd-mmm") -> 23-Mar | U7: =IF(AND(A7<=Portfolio!$J$5,A7>=Holdings!$G$24),O7,0) -> -0.00036 | V7: =IF(AND(A7>Holdings!$G$24,A7<=Portfolio!$J$5),L7,"") | W7: =IF(AND(A7>Holdings!$G$24,A7<=Portfolio!$J$5),Q7,"")
A8: 46105 | B8: =SUMIFS(Ledger!$J$7:$J$1006,Ledger!$C$7:$C$1006,Portfolio!$C$5,Ledger!$E$7:$E$1006,History!B$6,Ledger!$B$7:$B$1006,"<="&$A8) -> 80 | C8: =SUMIFS(Ledger!$J$7:$J$1006,Ledger!$C$7:$C$1006,Portfolio!$C$5,Ledger!$E$7:$E$1006,History!C$6,Ledger!$B$7:$B$1006,"<="&$A8) -> 100 | D8: =SUMIFS(Ledger!$J$7:$J$1006,Ledger!$C$7:$C$1006,Portfolio!$C$5,Ledger!$E$7:$E$1006,History!D$6,Ledger!$B$7:$B$1006,"<="&$A8) -> 70 | E8: =SUMIFS(Ledger!$J$7:$J$1006,Ledger!$C$7:$C$1006,Portfolio!$C$5,Ledger!$E$7:$E$1006,History!E$6,Ledger!$B$7:$B$1006,"<="&$A8) -> 180 | F8: =SUMIFS(Ledger!$J$7:$J$1006,Ledger!$C$7:$C$1006,Portfolio!$C$5,Ledger!$E$7:$E$1006,History!F$6,Ledger!$B$7:$B$1006,"<="&$A8) -> 400 | G8: =SUMIFS(Ledger!$J$7:$J$1006,Ledger!$C$7:$C$1006,Portfolio!$C$5,Ledger!$E$7:$E$1006,History!G$6,Ledger!$B$7:$B$1006,"<="&$A8) -> 600 | H8: =SUMIFS(Ledger!$K$7:$K$1006,Ledger!$C$7:$C$1006,Portfolio!$C$5,Ledger!$B$7:$B$1006,"<="&$A8) -> 38920 | I8: =IF(S8=6,SUMPRODUCT(B8:G8,History!B8:G8),NA()) -> 464944.55 | J8: =SUM(H8:I8) -> 503864.55 | K8: =SUMIFS(Ledger!$L$7:$L$1006,Ledger!$C$7:$C$1006,Portfolio!$C$5,Ledger!$B$7:$B$1006,$A8) -> 0 | L8: =IF(A8<Holdings!$G$24,"",IF(A8=Holdings!$G$24,IF(K8>0,J8/K8-1,NA()),IF(J7>0,(J8-K8)/J7-1,NA()))) -> 0.0080920211 | M8: =IF(A8<Holdings!$G$24,"",IF(A8=Holdings!$G$24,100*(1+L8),M7*(1+L8))) -> 100.77291 | N8: =IF(A8<Holdings!$G$24,"",IF(A8=Holdings!$G$24,MAX(100,M8),MAX(N7,M8))) -> 100.77291 | O8: =IF(A8<Holdings!$G$24,"",M8/N8-1) -> 0 | P8: =IF(A8<Holdings!$G$24,"",IF(History!H8>0,History!H8/INDEX(History!$H$7:$H$136,MATCH(Holdings!$G$24,History!$A$7:$A$136,0))*100,NA())) -> 100.7209 | Q8: =IF(A8<=Holdings!$G$24,"",P8/P7-1) -> 0.007208993 | R8: =IF(A8>Portfolio!$J$5,0,-K8+IF(A8=Portfolio!$J$5,J8,0)) -> 0 | S8: =COUNTIFS(History!B8:G8,">0") -> 6 | T8: =TEXT(A8,"dd-mmm") -> 24-Mar | U8: =IF(AND(A8<=Portfolio!$J$5,A8>=Holdings!$G$24),O8,0) -> 0 | V8: =IF(AND(A8>Holdings!$G$24,A8<=Portfolio!$J$5),L8,"") -> 0.0080920211 | W8: =IF(AND(A8>Holdings!$G$24,A8<=Portfolio!$J$5),Q8,"") -> 0.007208993
A9: 46106 | B9: =SUMIFS(Ledger!$J$7:$J$1006,Ledger!$C$7:$C$1006,Portfolio!$C$5,Ledger!$E$7:$E$1006,History!B$6,Ledger!$B$7:$B$1006,"<="&$A9) -> 80 | C9: =SUMIFS(Ledger!$J$7:$J$1006,Ledger!$C$7:$C$1006,Portfolio!$C$5,Ledger!$E$7:$E$1006,History!C$6,Ledger!$B$7:$B$1006,"<="&$A9) -> 100 | D9: =SUMIFS(Ledger!$J$7:$J$1006,Ledger!$C$7:$C$1006,Portfolio!$C$5,Ledger!$E$7:$E$1006,History!D$6,Ledger!$B$7:$B$1006,"<="&$A9) -> 70 | E9: =SUMIFS(Ledger!$J$7:$J$1006,Ledger!$C$7:$C$1006,Portfolio!$C$5,Ledger!$E$7:$E$1006,History!E$6,Ledger!$B$7:$B$1006,"<="&$A9) -> 180 | F9: =SUMIFS(Ledger!$J$7:$J$1006,Ledger!$C$7:$C$1006,Portfolio!$C$5,Ledger!$E$7:$E$1006,History!F$6,Ledger!$B$7:$B$1006,"<="&$A9) -> 400 | G9: =SUMIFS(Ledger!$J$7:$J$1006,Ledger!$C$7:$C$1006,Portfolio!$C$5,Ledger!$E$7:$E$1006,History!G$6,Ledger!$B$7:$B$1006,"<="&$A9) -> 600 | H9: =SUMIFS(Ledger!$K$7:$K$1006,Ledger!$C$7:$C$1006,Portfolio!$C$5,Ledger!$B$7:$B$1006,"<="&$A9) -> 38920 | I9: =IF(S9=6,SUMPRODUCT(B9:G9,History!B9:G9),NA()) -> 463232.74 | J9: =SUM(H9:I9) -> 502152.74 | K9: =SUMIFS(Ledger!$L$7:$L$1006,Ledger!$C$7:$C$1006,Portfolio!$C$5,Ledger!$B$7:$B$1006,$A9) -> 0 | L9: =IF(A9<Holdings!$G$24,"",IF(A9=Holdings!$G$24,IF(K9>0,J9/K9-1,NA()),IF(J8>0,(J9-K9)/J8-1,NA()))) -> -0.0033973594 | M9: =IF(A9<Holdings!$G$24,"",IF(A9=Holdings!$G$24,100*(1+L9),M8*(1+L9))) -> 100.43055 | N9: =IF(A9<Holdings!$G$24,"",IF(A9=Holdings!$G$24,MAX(100,M9),MAX(N8,M9))) -> 100.77291 | O9: =IF(A9<Holdings!$G$24,"",M9/N9-1) -> -0.0033973594 | P9: =IF(A9<Holdings!$G$24,"",IF(History!H9>0,History!H9/INDEX(History!$H$7:$H$136,MATCH(Holdings!$G$24,History!$A$7:$A$136,0))*100,NA())) -> 100.85809 | Q9: =IF(A9<=Holdings!$G$24,"",P9/P8-1) -> 0.0013621106 | R9: =IF(A9>Portfolio!$J$5,0,-K9+IF(A9=Portfolio!$J$5,J9,0)) -> 0 | S9: =COUNTIFS(History!B9:G9,">0") -> 6 | T9: =TEXT(A9,"dd-mmm") -> 25-Mar | U9: =IF(AND(A9<=Portfolio!$J$5,A9>=Holdings!$G$24),O9,0) -> -0.0033973594 | V9: =IF(AND(A9>Holdings!$G$24,A9<=Portfolio!$J$5),L9,"") -> -0.0033973594 | W9: =IF(AND(A9>Holdings!$G$24,A9<=Portfolio!$J$5),Q9,"") -> 0.0013621106
A10: 46107 | B10: =SUMIFS(Ledger!$J$7:$J$1006,Ledger!$C$7:$C$1006,Portfolio!$C$5,Ledger!$E$7:$E$1006,History!B$6,Ledger!$B$7:$B$1006,"<="&$A10) -> 80 | C10: =SUMIFS(Ledger!$J$7:$J$1006,Ledger!$C$7:$C$1006,Portfolio!$C$5,Ledger!$E$7:$E$1006,History!C$6,Ledger!$B$7:$B$1006,"<="&$A10) -> 100 | D10: =SUMIFS(Ledger!$J$7:$J$1006,Ledger!$C$7:$C$1006,Portfolio!$C$5,Ledger!$E$7:$E$1006,History!D$6,Ledger!$B$7:$B$1006,"<="&$A10) -> 70 | E10: =SUMIFS(Ledger!$J$7:$J$1006,Ledger!$C$7:$C$1006,Portfolio!$C$5,Ledger!$E$7:$E$1006,History!E$6,Ledger!$B$7:$B$1006,"<="&$A10) -> 180 | F10: =SUMIFS(Ledger!$J$7:$J$1006,Ledger!$C$7:$C$1006,Portfolio!$C$5,Ledger!$E$7:$E$1006,History!F$6,Ledger!$B$7:$B$1006,"<="&$A10) -> 400 | G10: =SUMIFS(Ledger!$J$7:$J$1006,Ledger!$C$7:$C$1006,Portfolio!$C$5,Ledger!$E$7:$E$1006,History!G$6,Ledger!$B$7:$B$1006,"<="&$A10) -> 600 | H10: =SUMIFS(Ledger!$K$7:$K$1006,Ledger!$C$7:$C$1006,Portfolio!$C$5,Ledger!$B$7:$B$1006,"<="&$A10) -> 38920 | I10: =IF(S10=6,SUMPRODUCT(B10:G10,History!B10:G10),NA()) -> 466907.26 | J10: =SUM(H10:I10) -> 505827.26 | K10: =SUMIFS(Ledger!$L$7:$L$1006,Ledger!$C$7:$C$1006,Portfolio!$C$5,Ledger!$B$7:$B$1006,$A10) -> 0 | L10: =IF(A10<Holdings!$G$24,"",IF(A10=Holdings!$G$24,IF(K10>0,J10/K10-1,NA()),IF(J9>0,(J10-K10)/J9-1,NA()))) -> 0.0073175185 | M10: =IF(A10<Holdings!$G$24,"",IF(A10=Holdings!$G$24,100*(1+L10),M9*(1+L10))) -> 101.16545 | N10: =IF(A10<Holdings!$G$24,"",IF(A10=Holdings!$G$24,MAX(100,M10),MAX(N9,M10))) -> 101.16545 | O10: =IF(A10<Holdings!$G$24,"",M10/N10-1) -> 0 | P10: =IF(A10<Holdings!$G$24,"",IF(History!H10>0,History!H10/INDEX(History!$H$7:$H$136,MATCH(Holdings!$G$24,History!$A$7:$A$136,0))*100,NA())) -> 101.63115 | Q10: =IF(A10<=Holdings!$G$24,"",P10/P9-1) -> 0.0076647682 | R10: =IF(A10>Portfolio!$J$5,0,-K10+IF(A10=Portfolio!$J$5,J10,0)) -> 0 | S10: =COUNTIFS(History!B10:G10,">0") -> 6 | T10: =TEXT(A10,"dd-mmm") -> 26-Mar | U10: =IF(AND(A10<=Portfolio!$J$5,A10>=Holdings!$G$24),O10,0) -> 0 | V10: =IF(AND(A10>Holdings!$G$24,A10<=Portfolio!$J$5),L10,"") -> 0.0073175185 | W10: =IF(AND(A10>Holdings!$G$24,A10<=Portfolio!$J$5),Q10,"") -> 0.0076647682
A11: 46108 | B11: =SUMIFS(Ledger!$J$7:$J$1006,Ledger!$C$7:$C$1006,Portfolio!$C$5,Ledger!$E$7:$E$1006,History!B$6,Ledger!$B$7:$B$1006,"<="&$A11) -> 80 | C11: =SUMIFS(Ledger!$J$7:$J$1006,Ledger!$C$7:$C$1006,Portfolio!$C$5,Ledger!$E$7:$E$1006,History!C$6,Ledger!$B$7:$B$1006,"<="&$A11) -> 100 | D11: =SUMIFS(Ledger!$J$7:$J$1006,Ledger!$C$7:$C$1006,Portfolio!$C$5,Ledger!$E$7:$E$1006,History!D$6,Ledger!$B$7:$B$1006,"<="&$A11) -> 70 | E11: =SUMIFS(Ledger!$J$7:$J$1006,Ledger!$C$7:$C$1006,Portfolio!$C$5,Ledger!$E$7:$E$1006,History!E$6,Ledger!$B$7:$B$1006,"<="&$A11) -> 180 | F11: =SUMIFS(Ledger!$J$7:$J$1006,Ledger!$C$7:$C$1006,Portfolio!$C$5,Ledger!$E$7:$E$1006,History!F$6,Ledger!$B$7:$B$1006,"<="&$A11) -> 400 | G11: =SUMIFS(Ledger!$J$7:$J$1006,Ledger!$C$7:$C$1006,Portfolio!$C$5,Ledger!$E$7:$E$1006,History!G$6,Ledger!$B$7:$B$1006,"<="&$A11) -> 600 | H11: =SUMIFS(Ledger!$K$7:$K$1006,Ledger!$C$7:$C$1006,Portfolio!$C$5,Ledger!$B$7:$B$1006,"<="&$A11) -> 38920 | I11: =IF(S11=6,SUMPRODUCT(B11:G11,History!B11:G11),NA()) -> 467294.75 | J11: =SUM(H11:I11) -> 506214.75 | K11: =SUMIFS(Ledger!$L$7:$L$1006,Ledger!$C$7:$C$1006,Portfolio!$C$5,Ledger!$B$7:$B$1006,$A11) -> 0 | L11: =IF(A11<Holdings!$G$24,"",IF(A11=Holdings!$G$24,IF(K11>0,J11/K11-1,NA()),IF(J10>0,(J11-K11)/J10-1,NA()))) -> 0.00076606192 | M11: =IF(A11<Holdings!$G$24,"",IF(A11=Holdings!$G$24,100*(1+L11),M10*(1+L11))) -> 101.24295 | N11: =IF(A11<Holdings!$G$24,"",IF(A11=Holdings!$G$24,MAX(100,M11),MAX(N10,M11))) -> 101.24295 | O11: =IF(A11<Holdings!$G$24,"",M11/N11-1) -> 0 | P11: =IF(A11<Holdings!$G$24,"",IF(History!H11>0,History!H11/INDEX(History!$H$7:$H$136,MATCH(Holdings!$G$24,History!$A$7:$A$136,0))*100,NA())) -> 101.39548 | Q11: =IF(A11<=Holdings!$G$24,"",P11/P10-1) -> -0.0023188807 | R11: =IF(A11>Portfolio!$J$5,0,-K11+IF(A11=Portfolio!$J$5,J11,0)) -> 0 | S11: =COUNTIFS(History!B11:G11,">0") -> 6 | T11: =TEXT(A11,"dd-mmm") -> 27-Mar | U11: =IF(AND(A11<=Portfolio!$J$5,A11>=Holdings!$G$24),O11,0) -> 0 | V11: =IF(AND(A11>Holdings!$G$24,A11<=Portfolio!$J$5),L11,"") -> 0.00076606192 | W11: =IF(AND(A11>Holdings!$G$24,A11<=Portfolio!$J$5),Q11,"") -> -0.0023188807
A12: 46111 | B12: =SUMIFS(Ledger!$J$7:$J$1006,Ledger!$C$7:$C$1006,Portfolio!$C$5,Ledger!$E$7:$E$1006,History!B$6,Ledger!$B$7:$B$1006,"<="&$A12) -> 80 | C12: =SUMIFS(Ledger!$J$7:$J$1006,Ledger!$C$7:$C$1006,Portfolio!$C$5,Ledger!$E$7:$E$1006,History!C$6,Ledger!$B$7:$B$1006,"<="&$A12) -> 100 | D12: =SUMIFS(Ledger!$J$7:$J$1006,Ledger!$C$7:$C$1006,Portfolio!$C$5,Ledger!$E$7:$E$1006,History!D$6,Ledger!$B$7:$B$1006,"<="&$A12) -> 70 | E12: =SUMIFS(Ledger!$J$7:$J$1006,Ledger!$C$7:$C$1006,Portfolio!$C$5,Ledger!$E$7:$E$1006,History!E$6,Ledger!$B$7:$B$1006,"<="&$A12) -> 180 | F12: =SUMIFS(Ledger!$J$7:$J$1006,Ledger!$C$7:$C$1006,Portfolio!$C$5,Ledger!$E$7:$E$1006,History!F$6,Ledger!$B$7:$B$1006,"<="&$A12) -> 400 | G12: =SUMIFS(Ledger!$J$7:$J$1006,Ledger!$C$7:$C$1006,Portfolio!$C$5,Ledger!$E$7:$E$1006,History!G$6,Ledger!$B$7:$B$1006,"<="&$A12) -> 600 | H12: =SUMIFS(Ledger!$K$7:$K$1006,Ledger!$C$7:$C$1006,Portfolio!$C$5,Ledger!$B$7:$B$1006,"<="&$A12) -> 38920 | I12: =IF(S12=6,SUMPRODUCT(B12:G12,History!B12:G12),NA()) -> 467177.66 | J12: =SUM(H12:I12) -> 506097.66 | K12: =SUMIFS(Ledger!$L$7:$L$1006,Ledger!$C$7:$C$1006,Portfolio!$C$5,Ledger!$B$7:$B$1006,$A12) -> 0 | L12: =IF(A12<Holdings!$G$24,"",IF(A12=Holdings!$G$24,IF(K12>0,J12/K12-1,NA()),IF(J11>0,(J12-K12)/J11-1,NA()))) -> -0.00023129907 | M12: =IF(A12<Holdings!$G$24,"",IF(A12=Holdings!$G$24,100*(1+L12),M11*(1+L12))) -> 101.21953 | N12: =IF(A12<Holdings!$G$24,"",IF(A12=Holdings!$G$24,MAX(100,M12),MAX(N11,M12))) -> 101.24295 | O12: =IF(A12<Holdings!$G$24,"",M12/N12-1) -> -0.00023129907 | P12: =IF(A12<Holdings!$G$24,"",IF(History!H12>0,History!H12/INDEX(History!$H$7:$H$136,MATCH(Holdings!$G$24,History!$A$7:$A$136,0))*100,NA())) -> 101.25893 | Q12: =IF(A12<=Holdings!$G$24,"",P12/P11-1) -> -0.0013466291 | R12: =IF(A12>Portfolio!$J$5,0,-K12+IF(A12=Portfolio!$J$5,J12,0)) -> 0 | S12: =COUNTIFS(History!B12:G12,">0") -> 6 | T12: =TEXT(A12,"dd-mmm") -> 30-Mar | U12: =IF(AND(A12<=Portfolio!$J$5,A12>=Holdings!$G$24),O12,0) -> -0.00023129907 | V12: =IF(AND(A12>Holdings!$G$24,A12<=Portfolio!$J$5),L12,"") -> -0.00023129907 | W12: =IF(AND(A12>Holdings!$G$24,A12<=Portfolio!$J$5),Q12,"") -> -0.0013466291
A13: 46112 | B13: =SUMIFS(Ledger!$J$7:$J$1006,Ledger!$C$7:$C$1006,Portfolio!$C$5,Ledger!$E$7:$E$1006,History!B$6,Ledger!$B$7:$B$1006,"<="&$A13) -> 80 | C13: =SUMIFS(Ledger!$J$7:$J$1006,Ledger!$C$7:$C$1006,Portfolio!$C$5,Ledger!$E$7:$E$1006,History!C$6,Ledger!$B$7:$B$1006,"<="&$A13) -> 100 | D13: =SUMIFS(Ledger!$J$7:$J$1006,Ledger!$C$7:$C$1006,Portfolio!$C$5,Ledger!$E$7:$E$1006,History!D$6,Ledger!$B$7:$B$1006,"<="&$A13) -> 70 | E13: =SUMIFS(Ledger!$J$7:$J$1006,Ledger!$C$7:$C$1006,Portfolio!$C$5,Ledger!$E$7:$E$1006,History!E$6,Ledger!$B$7:$B$1006,"<="&$A13) -> 180 | F13: =SUMIFS(Ledger!$J$7:$J$1006,Ledger!$C$7:$C$1006,Portfolio!$C$5,Ledger!$E$7:$E$1006,History!F$6,Ledger!$B$7:$B$1006,"<="&$A13) -> 400 | G13: =SUMIFS(Ledger!$J$7:$J$1006,Ledger!$C$7:$C$1006,Portfolio!$C$5,Ledger!$E$7:$E$1006,History!G$6,Ledger!$B$7:$B$1006,"<="&$A13) -> 600 | H13: =SUMIFS(Ledger!$K$7:$K$1006,Ledger!$C$7:$C$1006,Portfolio!$C$5,Ledger!$B$7:$B$1006,"<="&$A13) -> 38920 | I13: =IF(S13=6,SUMPRODUCT(B13:G13,History!B13:G13),NA()) -> 469031.89 | J13: =SUM(H13:I13) -> 507951.89 | K13: =SUMIFS(Ledger!$L$7:$L$1006,Ledger!$C$7:$C$1006,Portfolio!$C$5,Ledger!$B$7:$B$1006,$A13) -> 0 | L13: =IF(A13<Holdings!$G$24,"",IF(A13=Holdings!$G$24,IF(K13>0,J13/K13-1,NA()),IF(J12>0,(J13-K13)/J12-1,NA()))) -> 0.0036637691 | M13: =IF(A13<Holdings!$G$24,"",IF(A13=Holdings!$G$24,100*(1+L13),M12*(1+L13))) -> 101.59038 | N13: =IF(A13<Holdings!$G$24,"",IF(A13=Holdings!$G$24,MAX(100,M13),MAX(N12,M13))) -> 101.59038 | O13: =IF(A13<Holdings!$G$24,"",M13/N13-1) -> 0 | P13: =IF(A13<Holdings!$G$24,"",IF(History!H13>0,History!H13/INDEX(History!$H$7:$H$136,MATCH(Holdings!$G$24,History!$A$7:$A$136,0))*100,NA())) -> 100.94062 | Q13: =IF(A13<=Holdings!$G$24,"",P13/P12-1) -> -0.0031435844 | R13: =IF(A13>Portfolio!$J$5,0,-K13+IF(A13=Portfolio!$J$5,J13,0)) -> 0 | S13: =COUNTIFS(History!B13:G13,">0") -> 6 | T13: =TEXT(A13,"dd-mmm") -> 31-Mar | U13: =IF(AND(A13<=Portfolio!$J$5,A13>=Holdings!$G$24),O13,0) -> 0 | V13: =IF(AND(A13>Holdings!$G$24,A13<=Portfolio!$J$5),L13,"") -> 0.0036637691 | W13: =IF(AND(A13>Holdings!$G$24,A13<=Portfolio!$J$5),Q13,"") -> -0.0031435844
A14: 46113 | B14: =SUMIFS(Ledger!$J$7:$J$1006,Ledger!$C$7:$C$1006,Portfolio!$C$5,Ledger!$E$7:$E$1006,History!B$6,Ledger!$B$7:$B$1006,"<="&$A14) -> 80 | C14: =SUMIFS(Ledger!$J$7:$J$1006,Ledger!$C$7:$C$1006,Portfolio!$C$5,Ledger!$E$7:$E$1006,History!C$6,Ledger!$B$7:$B$1006,"<="&$A14) -> 100 | D14: =SUMIFS(Ledger!$J$7:$J$1006,Ledger!$C$7:$C$1006,Portfolio!$C$5,Ledger!$E$7:$E$1006,History!D$6,Ledger!$B$7:$B$1006,"<="&$A14) -> 70 | E14: =SUMIFS(Ledger!$J$7:$J$1006,Ledger!$C$7:$C$1006,Portfolio!$C$5,Ledger!$E$7:$E$1006,History!E$6,Ledger!$B$7:$B$1006,"<="&$A14) -> 180 | F14: =SUMIFS(Ledger!$J$7:$J$1006,Ledger!$C$7:$C$1006,Portfolio!$C$5,Ledger!$E$7:$E$1006,History!F$6,Ledger!$B$7:$B$1006,"<="&$A14) -> 400 | G14: =SUMIFS(Ledger!$J$7:$J$1006,Ledger!$C$7:$C$1006,Portfolio!$C$5,Ledger!$E$7:$E$1006,History!G$6,Ledger!$B$7:$B$1006,"<="&$A14) -> 600 | H14: =SUMIFS(Ledger!$K$7:$K$1006,Ledger!$C$7:$C$1006,Portfolio!$C$5,Ledger!$B$7:$B$1006,"<="&$A14) -> 38920 | I14: =IF(S14=6,SUMPRODUCT(B14:G14,History!B14:G14),NA()) -> 468579.64 | J14: =SUM(H14:I14) -> 507499.64 | K14: =SUMIFS(Ledger!$L$7:$L$1006,Ledger!$C$7:$C$1006,Portfolio!$C$5,Ledger!$B$7:$B$1006,$A14) -> 0 | L14: =IF(A14<Holdings!$G$24,"",IF(A14=Holdings!$G$24,IF(K14>0,J14/K14-1,NA()),IF(J13>0,(J14-K14)/J13-1,NA()))) -> -0.0008903481 | M14: =IF(A14<Holdings!$G$24,"",IF(A14=Holdings!$G$24,100*(1+L14),M13*(1+L14))) -> 101.49993 | N14: =IF(A14<Holdings!$G$24,"",IF(A14=Holdings!$G$24,MAX(100,M14),MAX(N13,M14))) -> 101.59038 | O14: =IF(A14<Holdings!$G$24,"",M14/N14-1) -> -0.0008903481 | P14: =IF(A14<Holdings!$G$24,"",IF(History!H14>0,History!H14/INDEX(History!$H$7:$H$136,MATCH(Holdings!$G$24,History!$A$7:$A$136,0))*100,NA())) -> 100.49778 | Q14: =IF(A14<=Holdings!$G$24,"",P14/P13-1) -> -0.0043871537 | R14: =IF(A14>Portfolio!$J$5,0,-K14+IF(A14=Portfolio!$J$5,J14,0)) -> 0 | S14: =COUNTIFS(History!B14:G14,">0") -> 6 | T14: =TEXT(A14,"dd-mmm") -> 01-Apr | U14: =IF(AND(A14<=Portfolio!$J$5,A14>=Holdings!$G$24),O14,0) -> -0.0008903481 | V14: =IF(AND(A14>Holdings!$G$24,A14<=Portfolio!$J$5),L14,"") -> -0.0008903481 | W14: =IF(AND(A14>Holdings!$G$24,A14<=Portfolio!$J$5),Q14,"") -> -0.0043871537
A15: 46114 | B15: =SUMIFS(Ledger!$J$7:$J$1006,Ledger!$C$7:$C$1006,Portfolio!$C$5,Ledger!$E$7:$E$1006,History!B$6,Ledger!$B$7:$B$1006,"<="&$A15) -> 80 | C15: =SUMIFS(Ledger!$J$7:$J$1006,Ledger!$C$7:$C$1006,Portfolio!$C$5,Ledger!$E$7:$E$1006,History!C$6,Ledger!$B$7:$B$1006,"<="&$A15) -> 100 | D15: =SUMIFS(Ledger!$J$7:$J$1006,Ledger!$C$7:$C$1006,Portfolio!$C$5,Ledger!$E$7:$E$1006,History!D$6,Ledger!$B$7:$B$1006,"<="&$A15) -> 70 | E15: =SUMIFS(Ledger!$J$7:$J$1006,Ledger!$C$7:$C$1006,Portfolio!$C$5,Ledger!$E$7:$E$1006,History!E$6,Ledger!$B$7:$B$1006,"<="&$A15) -> 180 | F15: =SUMIFS(Ledger!$J$7:$J$1006,Ledger!$C$7:$C$1006,Portfolio!$C$5,Ledger!$E$7:$E$1006,History!F$6,Ledger!$B$7:$B$1006,"<="&$A15) -> 400 | G15: =SUMIFS(Ledger!$J$7:$J$1006,Ledger!$C$7:$C$1006,Portfolio!$C$5,Ledger!$E$7:$E$1006,History!G$6,Ledger!$B$7:$B$1006,"<="&$A15) -> 600 | H15: =SUMIFS(Ledger!$K$7:$K$1006,Ledger!$C$7:$C$1006,Portfolio!$C$5,Ledger!$B$7:$B$1006,"<="&$A15) -> 38920 | I15: =IF(S15=6,SUMPRODUCT(B15:G15,History!B15:G15),NA()) -> 466182.59 | J15: =SUM(H15:I15) -> 505102.59 | K15: =SUMIFS(Ledger!$L$7:$L$1006,Ledger!$C$7:$C$1006,Portfolio!$C$5,Ledger!$B$7:$B$1006,$A15) -> 0 | L15: =IF(A15<Holdings!$G$24,"",IF(A15=Holdings!$G$24,IF(K15>0,J15/K15-1,NA()),IF(J14>0,(J15-K15)/J14-1,NA()))) -> -0.0047232526 | M15: =IF(A15<Holdings!$G$24,"",IF(A15=Holdings!$G$24,100*(1+L15),M14*(1+L15))) -> 101.02052 | N15: =IF(A15<Holdings!$G$24,"",IF(A15=Holdings!$G$24,MAX(100,M15),MAX(N14,M15))) -> 101.59038 | O15: =IF(A15<Holdings!$G$24,"",M15/N15-1) -> -0.0056093954 | P15: =IF(A15<Holdings!$G$24,"",IF(History!H15>0,History!H15/INDEX(History!$H$7:$H$136,MATCH(Holdings!$G$24,History!$A$7:$A$136,0))*100,NA())) -> 100.23689 | Q15: =IF(A15<=Holdings!$G$24,"",P15/P14-1) -> -0.0025959271 | R15: =IF(A15>Portfolio!$J$5,0,-K15+IF(A15=Portfolio!$J$5,J15,0)) -> 0 | S15: =COUNTIFS(History!B15:G15,">0") -> 6 | T15: =TEXT(A15,"dd-mmm") -> 02-Apr | U15: =IF(AND(A15<=Portfolio!$J$5,A15>=Holdings!$G$24),O15,0) -> -0.0056093954 | V15: =IF(AND(A15>Holdings!$G$24,A15<=Portfolio!$J$5),L15,"") -> -0.0047232526 | W15: =IF(AND(A15>Holdings!$G$24,A15<=Portfolio!$J$5),Q15,"") -> -0.0025959271
A16: 46115 | B16: =SUMIFS(Ledger!$J$7:$J$1006,Ledger!$C$7:$C$1006,Portfolio!$C$5,Ledger!$E$7:$E$1006,History!B$6,Ledger!$B$7:$B$1006,"<="&$A16) -> 80 | C16: =SUMIFS(Ledger!$J$7:$J$1006,Ledger!$C$7:$C$1006,Portfolio!$C$5,Ledger!$E$7:$E$1006,History!C$6,Ledger!$B$7:$B$1006,"<="&$A16) -> 100 | D16: =SUMIFS(Ledger!$J$7:$J$1006,Ledger!$C$7:$C$1006,Portfolio!$C$5,Ledger!$E$7:$E$1006,History!D$6,Ledger!$B$7:$B$1006,"<="&$A16) -> 70 | E16: =SUMIFS(Ledger!$J$7:$J$1006,Ledger!$C$7:$C$1006,Portfolio!$C$5,Ledger!$E$7:$E$1006,History!E$6,Ledger!$B$7:$B$1006,"<="&$A16) -> 180 | F16: =SUMIFS(Ledger!$J$7:$J$1006,Ledger!$C$7:$C$1006,Portfolio!$C$5,Ledger!$E$7:$E$1006,History!F$6,Ledger!$B$7:$B$1006,"<="&$A16) -> 400 | G16: =SUMIFS(Ledger!$J$7:$J$1006,Ledger!$C$7:$C$1006,Portfolio!$C$5,Ledger!$E$7:$E$1006,History!G$6,Ledger!$B$7:$B$1006,"<="&$A16) -> 600 | H16: =SUMIFS(Ledger!$K$7:$K$1006,Ledger!$C$7:$C$1006,Portfolio!$C$5,Ledger!$B$7:$B$1006,"<="&$A16) -> 38920 | I16: =IF(S16=6,SUMPRODUCT(B16:G16,History!B16:G16),NA()) -> 461263.63 | J16: =SUM(H16:I16) -> 500183.63 | K16: =SUMIFS(Ledger!$L$7:$L$1006,Ledger!$C$7:$C$1006,Portfolio!$C$5,Ledger!$B$7:$B$1006,$A16) -> 0 | L16: =IF(A16<Holdings!$G$24,"",IF(A16=Holdings!$G$24,IF(K16>0,J16/K16-1,NA()),IF(J15>0,(J16-K16)/J15-1,NA()))) -> -0.0097385346 | M16: =IF(A16<Holdings!$G$24,"",IF(A16=Holdings!$G$24,100*(1+L16),M15*(1+L16))) -> 100.03673 | N16: =IF(A16<Holdings!$G$24,"",IF(A16=Holdings!$G$24,MAX(100,M16),MAX(N15,M16))) -> 101.59038 | O16: =IF(A16<Holdings!$G$24,"",M16/N16-1) -> -0.015293303 | P16: =IF(A16<Holdings!$G$24,"",IF(History!H16>0,History!H16/INDEX(History!$H$7:$H$136,MATCH(Holdings!$G$24,History!$A$7:$A$136,0))*100,NA())) -> 99.582566 | Q16: =IF(A16<=Holdings!$G$24,"",P16/P15-1) -> -0.0065277793 | R16: =IF(A16>Portfolio!$J$5,0,-K16+IF(A16=Portfolio!$J$5,J16,0)) -> 0 | S16: =COUNTIFS(History!B16:G16,">0") -> 6 | T16: =TEXT(A16,"dd-mmm") -> 03-Apr | U16: =IF(AND(A16<=Portfolio!$J$5,A16>=Holdings!$G$24),O16,0) -> -0.015293303 | V16: =IF(AND(A16>Holdings!$G$24,A16<=Portfolio!$J$5),L16,"") -> -0.0097385346 | W16: =IF(AND(A16>Holdings!$G$24,A16<=Portfolio!$J$5),Q16,"") -> -0.0065277793
A17: 46118 | B17: =SUMIFS(Ledger!$J$7:$J$1006,Ledger!$C$7:$C$1006,Portfolio!$C$5,Ledger!$E$7:$E$1006,History!B$6,Ledger!$B$7:$B$1006,"<="&$A17) -> 80 | C17: =SUMIFS(Ledger!$J$7:$J$1006,Ledger!$C$7:$C$1006,Portfolio!$C$5,Ledger!$E$7:$E$1006,History!C$6,Ledger!$B$7:$B$1006,"<="&$A17) -> 100 | D17: =SUMIFS(Ledger!$J$7:$J$1006,Ledger!$C$7:$C$1006,Portfolio!$C$5,Ledger!$E$7:$E$1006,History!D$6,Ledger!$B$7:$B$1006,"<="&$A17) -> 70 | E17: =SUMIFS(Ledger!$J$7:$J$1006,Ledger!$C$7:$C$1006,Portfolio!$C$5,Ledger!$E$7:$E$1006,History!E$6,Ledger!$B$7:$B$1006,"<="&$A17) -> 180 | F17: =SUMIFS(Ledger!$J$7:$J$1006,Ledger!$C$7:$C$1006,Portfolio!$C$5,Ledger!$E$7:$E$1006,History!F$6,Ledger!$B$7:$B$1006,"<="&$A17) -> 400 | G17: =SUMIFS(Ledger!$J$7:$J$1006,Ledger!$C$7:$C$1006,Portfolio!$C$5,Ledger!$E$7:$E$1006,History!G$6,Ledger!$B$7:$B$1006,"<="&$A17) -> 600 | H17: =SUMIFS(Ledger!$K$7:$K$1006,Ledger!$C$7:$C$1006,Portfolio!$C$5,Ledger!$B$7:$B$1006,"<="&$A17) -> 38920 | I17: =IF(S17=6,SUMPRODUCT(B17:G17,History!B17:G17),NA()) -> 459827.08 | J17: =SUM(H17:I17) -> 498747.08 | K17: =SUMIFS(Ledger!$L$7:$L$1006,Ledger!$C$7:$C$1006,Portfolio!$C$5,Ledger!$B$7:$B$1006,$A17) -> 0 | L17: =IF(A17<Holdings!$G$24,"",IF(A17=Holdings!$G$24,IF(K17>0,J17/K17-1,NA()),IF(J16>0,(J17-K17)/J16-1,NA()))) -> -0.0028720472 | M17: =IF(A17<Holdings!$G$24,"",IF(A17=Holdings!$G$24,100*(1+L17),M16*(1+L17))) -> 99.749415 | N17: =IF(A17<Holdings!$G$24,"",IF(A17=Holdings!$G$24,MAX(100,M17),MAX(N16,M17))) -> 101.59038 | O17: =IF(A17<Holdings!$G$24,"",M17/N17-1) -> -0.018121427 | P17: =IF(A17<Holdings!$G$24,"",IF(History!H17>0,History!H17/INDEX(History!$H$7:$H$136,MATCH(Holdings!$G$24,History!$A$7:$A$136,0))*100,NA())) -> 99.457097 | Q17: =IF(A17<=Holdings!$G$24,"",P17/P16-1) -> -0.0012599565 | R17: =IF(A17>Portfolio!$J$5,0,-K17+IF(A17=Portfolio!$J$5,J17,0)) -> 0 | S17: =COUNTIFS(History!B17:G17,">0") -> 6 | T17: =TEXT(A17,"dd-mmm") -> 06-Apr | U17: =IF(AND(A17<=Portfolio!$J$5,A17>=Holdings!$G$24),O17,0) -> -0.018121427 | V17: =IF(AND(A17>Holdings!$G$24,A17<=Portfolio!$J$5),L17,"") -> -0.0028720472 | W17: =IF(AND(A17>Holdings!$G$24,A17<=Portfolio!$J$5),Q17,"") -> -0.0012599565
A18: 46119 | B18: =SUMIFS(Ledger!$J$7:$J$1006,Ledger!$C$7:$C$1006,Portfolio!$C$5,Ledger!$E$7:$E$1006,History!B$6,Ledger!$B$7:$B$1006,"<="&$A18) -> 80 | C18: =SUMIFS(Ledger!$J$7:$J$1006,Ledger!$C$7:$C$1006,Portfolio!$C$5,Ledger!$E$7:$E$1006,History!C$6,Ledger!$B$7:$B$1006,"<="&$A18) -> 100 | D18: =SUMIFS(Ledger!$J$7:$J$1006,Ledger!$C$7:$C$1006,Portfolio!$C$5,Ledger!$E$7:$E$1006,History!D$6,Ledger!$B$7:$B$1006,"<="&$A18) -> 70 | E18: =SUMIFS(Ledger!$J$7:$J$1006,Ledger!$C$7:$C$1006,Portfolio!$C$5,Ledger!$E$7:$E$1006,History!E$6,Ledger!$B$7:$B$1006,"<="&$A18) -> 180 | F18: =SUMIFS(Ledger!$J$7:$J$1006,Ledger!$C$7:$C$1006,Portfolio!$C$5,Ledger!$E$7:$E$1006,History!F$6,Ledger!$B$7:$B$1006,"<="&$A18) -> 400 | G18: =SUMIFS(Ledger!$J$7:$J$1006,Ledger!$C$7:$C$1006,Portfolio!$C$5,Ledger!$E$7:$E$1006,History!G$6,Ledger!$B$7:$B$1006,"<="&$A18) -> 600 | H18: =SUMIFS(Ledger!$K$7:$K$1006,Ledger!$C$7:$C$1006,Portfolio!$C$5,Ledger!$B$7:$B$1006,"<="&$A18) -> 38920 | I18: =IF(S18=6,SUMPRODUCT(B18:G18,History!B18:G18),NA()) -> 462570.07 | J18: =SUM(H18:I18) -> 501490.07 | K18: =SUMIFS(Ledger!$L$7:$L$1006,Ledger!$C$7:$C$1006,Portfolio!$C$5,Ledger!$B$7:$B$1006,$A18) -> 0 | L18: =IF(A18<Holdings!$G$24,"",IF(A18=Holdings!$G$24,IF(K18>0,J18/K18-1,NA()),IF(J17>0,(J18-K18)/J17-1,NA()))) -> 0.0054997676 | M18: =IF(A18<Holdings!$G$24,"",IF(A18=Holdings!$G$24,100*(1+L18),M17*(1+L18))) -> 100.29801 | N18: =IF(A18<Holdings!$G$24,"",IF(A18=Holdings!$G$24,MAX(100,M18),MAX(N17,M18))) -> 101.59038 | O18: =IF(A18<Holdings!$G$24,"",M18/N18-1) -> -0.012721323 | P18: =IF(A18<Holdings!$G$24,"",IF(History!H18>0,History!H18/INDEX(History!$H$7:$H$136,MATCH(Holdings!$G$24,History!$A$7:$A$136,0))*100,NA())) -> 99.658942 | Q18: =IF(A18<=Holdings!$G$24,"",P18/P17-1) -> 0.0020294701 | R18: =IF(A18>Portfolio!$J$5,0,-K18+IF(A18=Portfolio!$J$5,J18,0)) -> 0 | S18: =COUNTIFS(History!B18:G18,">0") -> 6 | T18: =TEXT(A18,"dd-mmm") -> 07-Apr | U18: =IF(AND(A18<=Portfolio!$J$5,A18>=Holdings!$G$24),O18,0) -> -0.012721323 | V18: =IF(AND(A18>Holdings!$G$24,A18<=Portfolio!$J$5),L18,"") -> 0.0054997676 | W18: =IF(AND(A18>Holdings!$G$24,A18<=Portfolio!$J$5),Q18,"") -> 0.0020294701
A19: 46120 | B19: =SUMIFS(Ledger!$J$7:$J$1006,Ledger!$C$7:$C$1006,Portfolio!$C$5,Ledger!$E$7:$E$1006,History!B$6,Ledger!$B$7:$B$1006,"<="&$A19) -> 80 | C19: =SUMIFS(Ledger!$J$7:$J$1006,Ledger!$C$7:$C$1006,Portfolio!$C$5,Ledger!$E$7:$E$1006,History!C$6,Ledger!$B$7:$B$1006,"<="&$A19) -> 100 | D19: =SUMIFS(Ledger!$J$7:$J$1006,Ledger!$C$7:$C$1006,Portfolio!$C$5,Ledger!$E$7:$E$1006,History!D$6,Ledger!$B$7:$B$1006,"<="&$A19) -> 70 | E19: =SUMIFS(Ledger!$J$7:$J$1006,Ledger!$C$7:$C$1006,Portfolio!$C$5,Ledger!$E$7:$E$1006,History!E$6,Ledger!$B$7:$B$1006,"<="&$A19) -> 180 | F19: =SUMIFS(Ledger!$J$7:$J$1006,Ledger!$C$7:$C$1006,Portfolio!$C$5,Ledger!$E$7:$E$1006,History!F$6,Ledger!$B$7:$B$1006,"<="&$A19) -> 400 | G19: =SUMIFS(Ledger!$J$7:$J$1006,Ledger!$C$7:$C$1006,Portfolio!$C$5,Ledger!$E$7:$E$1006,History!G$6,Ledger!$B$7:$B$1006,"<="&$A19) -> 600 | H19: =SUMIFS(Ledger!$K$7:$K$1006,Ledger!$C$7:$C$1006,Portfolio!$C$5,Ledger!$B$7:$B$1006,"<="&$A19) -> 38920 | I19: =IF(S19=6,SUMPRODUCT(B19:G19,History!B19:G19),NA()) -> 459775.11 | J19: =SUM(H19:I19) -> 498695.11 | K19: =SUMIFS(Ledger!$L$7:$L$1006,Ledger!$C$7:$C$1006,Portfolio!$C$5,Ledger!$B$7:$B$1006,$A19) -> 0 | L19: =IF(A19<Holdings!$G$24,"",IF(A19=Holdings!$G$24,IF(K19>0,J19/K19-1,NA()),IF(J18>0,(J19-K19)/J18-1,NA()))) -> -0.0055733048 | M19: =IF(A19<Holdings!$G$24,"",IF(A19=Holdings!$G$24,100*(1+L19),M18*(1+L19))) -> 99.739023 | N19: =IF(A19<Holdings!$G$24,"",IF(A19=Holdings!$G$24,MAX(100,M19),MAX(N18,M19))) -> 101.59038 | O19: =IF(A19<Holdings!$G$24,"",M19/N19-1) -> -0.018223728 | P19: =IF(A19<Holdings!$G$24,"",IF(History!H19>0,History!H19/INDEX(History!$H$7:$H$136,MATCH(Holdings!$G$24,History!$A$7:$A$136,0))*100,NA())) -> 99.216425 | Q19: =IF(A19<=Holdings!$G$24,"",P19/P18-1) -> -0.0044403161 | R19: =IF(A19>Portfolio!$J$5,0,-K19+IF(A19=Portfolio!$J$5,J19,0)) -> 0 | S19: =COUNTIFS(History!B19:G19,">0") -> 6 | T19: =TEXT(A19,"dd-mmm") -> 08-Apr | U19: =IF(AND(A19<=Portfolio!$J$5,A19>=Holdings!$G$24),O19,0) -> -0.018223728 | V19: =IF(AND(A19>Holdings!$G$24,A19<=Portfolio!$J$5),L19,"") -> -0.0055733048 | W19: =IF(AND(A19>Holdings!$G$24,A19<=Portfolio!$J$5),Q19,"") -> -0.0044403161
... A136: 46283 | B136: =SUMIFS(Ledger!$J$7:$J$1006,Ledger!$C$7:$C$1006,Portfolio!$C$5,Ledger!$E$7:$E$1006,History!B$6,Ledger!$B$7:$B$1006,"<="&$A136) -> 90 | C136: =SUMIFS(Ledger!$J$7:$J$1006,Ledger!$C$7:$C$1006,Portfolio!$C$5,Ledger!$E$7:$E$1006,History!C$6,Ledger!$B$7:$B$1006,"<="&$A136) -> 220 | D136: =SUMIFS(Ledger!$J$7:$J$1006,Ledger!$C$7:$C$1006,Portfolio!$C$5,Ledger!$E$7:$E$1006,History!D$6,Ledger!$B$7:$B$1006,"<="&$A136) -> 80 | E136: =SUMIFS(Ledger!$J$7:$J$1006,Ledger!$C$7:$C$1006,Portfolio!$C$5,Ledger!$E$7:$E$1006,History!E$6,Ledger!$B$7:$B$1006,"<="&$A136) -> 130 | F136: =SUMIFS(Ledger!$J$7:$J$1006,Ledger!$C$7:$C$1006,Portfolio!$C$5,Ledger!$E$7:$E$1006,History!F$6,Ledger!$B$7:$B$1006,"<="&$A136) -> 480 | G136: =SUMIFS(Ledger!$J$7:$J$1006,Ledger!$C$7:$C$1006,Portfolio!$C$5,Ledger!$E$7:$E$1006,History!G$6,Ledger!$B$7:$B$1006,"<="&$A136) -> 600 | H136: =SUMIFS(Ledger!$K$7:$K$1006,Ledger!$C$7:$C$1006,Portfolio!$C$5,Ledger!$B$7:$B$1006,"<="&$A136) -> 49454.401 | I136: =IF(S136=6,SUMPRODUCT(B136:G136,History!B136:G136),NA()) -> 477459.59 | J136: =SUM(H136:I136) -> 526914 | K136: =SUMIFS(Ledger!$L$7:$L$1006,Ledger!$C$7:$C$1006,Portfolio!$C$5,Ledger!$B$7:$B$1006,$A136) -> 0 | L136: =IF(A136<Holdings!$G$24,"",IF(A136=Holdings!$G$24,IF(K136>0,J136/K136-1,NA()),IF(J135>0,(J136-K136)/J135-1,NA()))) -> -0.0076813761 | M136: =IF(A136<Holdings!$G$24,"",IF(A136=Holdings!$G$24,100*(1+L136),M135*(1+L136))) -> 98.282376 | N136: =IF(A136<Holdings!$G$24,"",IF(A136=Holdings!$G$24,MAX(100,M136),MAX(N135,M136))) -> 102.94362 | O136: =IF(A136<Holdings!$G$24,"",M136/N136-1) -> -0.045279569 | P136: =IF(A136<Holdings!$G$24,"",IF(History!H136>0,History!H136/INDEX(History!$H$7:$H$136,MATCH(Holdings!$G$24,History!$A$7:$A$136,0))*100,NA())) -> 96.624134 | Q136: =IF(A136<=Holdings!$G$24,"",P136/P135-1) -> -0.0054953009 | R136: =IF(A136>Portfolio!$J$5,0,-K136+IF(A136=Portfolio!$J$5,J136,0)) -> 526914 | S136: =COUNTIFS(History!B136:G136,">0") -> 6 | T136: =TEXT(A136,"dd-mmm") -> 18-Sep | U136: =IF(AND(A136<=Portfolio!$J$5,A136>=Holdings!$G$24),O136,0) -> -0.045279569 | V136: =IF(AND(A136>Holdings!$G$24,A136<=Portfolio!$J$5),L136,"") -> -0.0076813761 | W136: =IF(AND(A136>Holdings!$G$24,A136<=Portfolio!$J$5),Q136,"") -> -0.0054953009

Sheet History
A2: Synthetic price history
A4: Fictional prices. Weekday simulation calendar; not NSE trading history.
A6: Date | B6: SYN_BANK | C6: SYN_TECH | D6: SYN_HEALTH | E6: SYN_INDUSTRY | F6: SYN_BROAD_ETF | G6: SYN_BOND_ETF | H6: BENCH | K6: Instrument | L6: Name | M6: Type | N6: Sector
A7: 46104 | B7: 550 | C7: 1200 | D7: 850 | E7: 430 | F7: 250 | G7: 100 | H7: 1000 | K7: SYN_BANK | L7: Demo Bank | M7: Stock | N7: Banking
A8: 46105 | B8: 553.2661 | C8: 1220.826 | D8: 859.2402 | E8: 431.4914 | F8: 251.8348 | G8: 100.0858 | H8: 1007.209 | K8: SYN_TECH | L8: Demo Technology | M8: Stock | N8: Technology
A9: 46106 | B9: 550.6827 | C9: 1212.2826 | D9: 852.0129 | E9: 430.7487 | F9: 251.6286 | G9: 100.2046 | H9: 1008.5809 | K9: SYN_HEALTH | L9: Demo Healthcare | M9: Stock | N9: Healthcare
A10: 46107 | B10: 554.2582 | C10: 1223.3541 | D10: 862.6971 | E10: 434.3783 | F10: 253.8152 | G10: 100.2137 | H10: 1016.3115 | K10: SYN_INDUSTRY | L10: Demo Industry | M10: Stock | N10: Industrials
A11: 46108 | B11: 550.762 | C11: 1236.7342 | D11: 858.4144 | E11: 433.9488 | F11: 253.0659 | G11: 100.2237 | H11: 1013.9548 | K11: SYN_BROAD_ETF | L11: Demo Broad ETF | M11: ETF | N11: Diversified equity
A12: 46111 | B12: 549.211 | C12: 1235.6043 | D12: 859.7341 | E12: 434.0516 | F12: 253.0264 | G12: 100.2652 | H12: 1012.5893 | K12: SYN_BOND_ETF | L12: Demo Bond ETF | M12: ETF | N12: Fixed income
A13: 46112 | B13: 554.8743 | C13: 1251.5308 | D13: 852.313 | E13: 436.9542 | F13: 252.3518 | G13: 100.3908 | H13: 1009.4062
